BEGIN:VCALENDAR
VERSION:2.0
PRODID:-//TVSITALIA - ECPv6.15.18//NONSGML v1.0//EN
CALSCALE:GREGORIAN
METHOD:PUBLISH
X-WR-CALNAME:TVSITALIA
X-ORIGINAL-URL:https://tvsitalia.it
X-WR-CALDESC:Eventi per TVSITALIA
REFRESH-INTERVAL;VALUE=DURATION:PT1H
X-Robots-Tag:noindex
X-PUBLISHED-TTL:PT1H
BEGIN:VTIMEZONE
TZID:Europe/Rome
BEGIN:DAYLIGHT
TZOFFSETFROM:+0100
TZOFFSETTO:+0200
TZNAME:CEST
DTSTART:20190331T010000
END:DAYLIGHT
BEGIN:STANDARD
TZOFFSETFROM:+0200
TZOFFSETTO:+0100
TZNAME:CET
DTSTART:20191027T010000
END:STANDARD
BEGIN:DAYLIGHT
TZOFFSETFROM:+0100
TZOFFSETTO:+0200
TZNAME:CEST
DTSTART:20200329T010000
END:DAYLIGHT
BEGIN:STANDARD
TZOFFSETFROM:+0200
TZOFFSETTO:+0100
TZNAME:CET
DTSTART:20201025T010000
END:STANDARD
BEGIN:DAYLIGHT
TZOFFSETFROM:+0100
TZOFFSETTO:+0200
TZNAME:CEST
DTSTART:20210328T010000
END:DAYLIGHT
BEGIN:STANDARD
TZOFFSETFROM:+0200
TZOFFSETTO:+0100
TZNAME:CET
DTSTART:20211031T010000
END:STANDARD
END:VTIMEZONE
BEGIN:VEVENT
DTSTART;TZID=Europe/Rome:20200924T140000
DTEND;TZID=Europe/Rome:20200924T160000
DTSTAMP:20260425T144346
CREATED:20200907T070105Z
LAST-MODIFIED:20200907T070105Z
UID:21959-1600956000-1600963200@tvsitalia.it
SUMMARY:Webinar sulla nuova piattaforma Hik-ProConnect
DESCRIPTION:Webinar sulla nuova piattaforma Hik-ProConnect di HIKVISION.\nLa presentazione Online inizierà alle ore 14:00 e terminerà alle 16:00 di Giovedì 24 Settembre 2020\n \nTVSITALIA in collaborazione con HIKVISION Italy\, è lieta di invitarvi al webinar\, in cui verrà presentata per la prima volta in Italia\, la nuova piattaforma Hik-ProConnect\, creata da Hikvision e dedicata all’installatore.\n \n \nATTENZIONE!!! Limite massimo di 500 iscrizioni\, al termine del numero massimo non sarà più possibile effettuare la registrazione…\n \n\nPerchè è importante partecipare?\nLo scopo di questa presentazione Online è fornire un’adeguata conoscenza dell’intera piattaforma.\nLa piattaforma Cloud Hik-ProConnect si pone come fulcro della Convergenza\, tutti i dispositivi Hikvision possono interagire fra loro in modo semplice ed efficace\, come un unico sistema\, con regole e scenari\, creando interazioni tra Videosorveglianza\, Intercom\, Intrusione e Controllo Accessi.\n \nArgomenti trattati\n · Cos’è Hik-ProConnect\n· Strumenti di Configurazione On-Site\n· Funzioni di Manutenzione da Remoto\n· Convergenza dei dispositivi\n· Gestione dei permessi su più livelli\n· Co-Branding e promozione del proprio brand
URL:https://tvsitalia.it/event/webinar-sulla-nuova-piattaforma-hik-proconnect/
LOCATION:WEBINAR – ONLINE\, Italia
CATEGORIES:Hikvision
ATTACH;FMTTYPE=:
END:VEVENT
END:VCALENDAR