BEGIN:VCALENDAR
VERSION:2.0
PRODID:-//TVSITALIA - ECPv6.15.18//NONSGML v1.0//EN
CALSCALE:GREGORIAN
METHOD:PUBLISH
X-WR-CALNAME:TVSITALIA
X-ORIGINAL-URL:https://tvsitalia.it
X-WR-CALDESC:Eventi per TVSITALIA
REFRESH-INTERVAL;VALUE=DURATION:PT1H
X-Robots-Tag:noindex
X-PUBLISHED-TTL:PT1H
BEGIN:VTIMEZONE
TZID:Europe/Rome
BEGIN:DAYLIGHT
TZOFFSETFROM:+0100
TZOFFSETTO:+0200
TZNAME:CEST
DTSTART:20220327T010000
END:DAYLIGHT
BEGIN:STANDARD
TZOFFSETFROM:+0200
TZOFFSETTO:+0100
TZNAME:CET
DTSTART:20221030T010000
END:STANDARD
BEGIN:DAYLIGHT
TZOFFSETFROM:+0100
TZOFFSETTO:+0200
TZNAME:CEST
DTSTART:20230326T010000
END:DAYLIGHT
BEGIN:STANDARD
TZOFFSETFROM:+0200
TZOFFSETTO:+0100
TZNAME:CET
DTSTART:20231029T010000
END:STANDARD
BEGIN:DAYLIGHT
TZOFFSETFROM:+0100
TZOFFSETTO:+0200
TZNAME:CEST
DTSTART:20240331T010000
END:DAYLIGHT
BEGIN:STANDARD
TZOFFSETFROM:+0200
TZOFFSETTO:+0100
TZNAME:CET
DTSTART:20241027T010000
END:STANDARD
END:VTIMEZONE
BEGIN:VEVENT
DTSTART;TZID=Europe/Rome:20230308T140000
DTEND;TZID=Europe/Rome:20230308T183000
DTSTAMP:20260423T201107
CREATED:20230216T150622Z
LAST-MODIFIED:20230216T150622Z
UID:37925-1678284000-1678300200@tvsitalia.it
SUMMARY:Cosa ne sai dei meta dati?
DESCRIPTION:Cosa ne sai dei metadati?Sei stanco di essere uno dei tanti che installa antifurti? Sei stanco di fare preventivi al ribasso? \n[iee_image image_width=”235″ alignment=”center” click_action=”none” target=”_blank” image_shape=”default” blob_shape=”59% 41% 41% 59% / 29% 48% 52% 71%” images_border_radius=”4″ hover_animation=”enable” image_url=”https://tvsitalia.it/wp-content/uploads/2022/04/Logo-Tvsitalia-w-01.png” /]Cosa ne sai dei metadati?Sei stanco di essere uno dei tanti che installa antifurti? Sei stanco di fare preventivi al ribasso? \n[iee_image image_width=”235″ alignment=”center” click_action=”none” target=”_blank” image_shape=”default” blob_shape=”59% 41% 41% 59% / 29% 48% 52% 71%” images_border_radius=”4″ hover_animation=”enable” image_url=”https://tvsitalia.it/wp-content/uploads/2022/04/Logo-Tvsitalia-w-01.png” /]Cosa ne sai dei metadati?Sei stanco di essere uno dei tanti che installa antifurti? Sei stanco di fare preventivi al ribasso? \n[iee_image image_width=”235″ alignment=”center” click_action=”none” target=”_blank” image_shape=”default” blob_shape=”59% 41% 41% 59% / 29% 48% 52% 71%” images_border_radius=”4″ hover_animation=”enable” image_url=”https://tvsitalia.it/wp-content/uploads/2022/04/Logo-Tvsitalia-w-01.png” /]100% \nSoddisfazione delle tue aspettative… \n-70% \nTempo medio di installazione \n100% \nSoddisfazione delle tue aspettative… \n-70% \nTempo medio di installazione \n100% \nSoddisfazione delle tue aspettative… \n-70% \nTempo medio di installazione \nInformazioni per il corsoIl corso si terrà Mercoledì 8 Marzo 2023 presso la sede TVSITALIA di Loreggia\, Via dell’artigianato 8/A (PD)\, dalle ore 14:0 alle ore 18:30. \nDurante l’evento verranno presentate le soluzioni di Antifurto Smart Ksenia Security\, la Videocitofonia su fibra ottica Videx e la Videoanalisi Hikvision. Gli esperti TVSITALIA tramite prove pratiche\, faranno vedere come far dialogare le 3 soluzioni tramite l’utilizzo dei meta dati\, e di come potrai sfruttare a tuo vantaggio l’unione delle 3 le soluzioni\, per avere un assoluto vantaggio tecnico e commerciale nei confronti di tutti gli altri installatori. \nInformazioni per il corsoIl corso si terrà Mercoledì 8 Marzo 2023 presso la sede TVSITALIA di Loreggia\, Via dell’artigianato 8/A (PD)\, dalle ore 14:0 alle ore 18:30. \nDurante l’evento verranno presentate le soluzioni di Antifurto Smart Ksenia Security\, la Videocitofonia su fibra ottica Videx e la Videoanalisi Hikvision. Gli esperti TVSITALIA tramite prove pratiche\, faranno vedere come far dialogare le 3 soluzioni tramite l’utilizzo dei meta dati\, e di come potrai sfruttare a tuo vantaggio l’unione delle 3 le soluzioni\, per avere un assoluto vantaggio tecnico e commerciale nei confronti di tutti gli altri installatori. \nInformazioni per il corsoIl corso si terrà Mercoledì 8 Marzo 2023 presso la sede TVSITALIA di Loreggia\, Via dell’artigianato 8/A (PD)\, dalle ore 14:0 alle ore 18:30. \nDurante l’evento verranno presentate le soluzioni di Antifurto Smart Ksenia Security\, la Videocitofonia su fibra ottica Videx e la Videoanalisi Hikvision. Gli esperti TVSITALIA tramite prove pratiche\, faranno vedere come far dialogare le 3 soluzioni tramite l’utilizzo dei meta dati\, e di come potrai sfruttare a tuo vantaggio l’unione delle 3 le soluzioni\, per avere un assoluto vantaggio tecnico e commerciale nei confronti di tutti gli altri installatori. \nKsenia SecurityIl produttore di sistemi antifurto e domotica Italiano con la più alta percentuale di integrazioni. Aperto per dialogare con ogni sistema. \nHikvision\nItaliaLeader mondiale nella produzione e comercializzazione di dispositivi per la Videosorveglianza. Da anni sviluppa prodotti di Video analisi con ottiche visibili e termiche. \nVidex\n\nVidex è un produttore Italiano di Videocitofonia\, famosissimo in tutto il mondo per aver sviluppato il primo Videocitofono su fibra ottica e su rete GSM. \n\nSoluzione TVSITALIAAbbiamo sviluppato un sistema che permette all’installatore di unificare il meglio dei 3 sistemi e di unificare il tutto in un unico grande sistema. \nKsenia SecurityIl produttore di sistemi antifurto e domotica Italiano con la più alta percentuale di integrazioni. Aperto per dialogare con ogni sistema. \nHikvision\nItaliaLeader mondiale nella produzione e comercializzazione di dispositivi per la Videosorveglianza. Da anni sviluppa prodotti di Video analisi con ottiche visibili e termiche. \nVidex\n\nVidex è un produttore Italiano di Videocitofonia\, famosissimo in tutto il mondo per aver sviluppato il primo Videocitofono su fibra ottica e su rete GSM. \n\nSoluzione TVSITALIAAbbiamo sviluppato un sistema che permette all’installatore di unificare il meglio dei 3 sistemi e di unificare il tutto in un unico grande sistema. \nKsenia SecurityIl produttore di sistemi antifurto e domotica Italiano con la più alta percentuale di integrazioni. Aperto per dialogare con ogni sistema. \nHikvision\nItaliaLeader mondiale nella produzione e comercializzazione di dispositivi per la Videosorveglianza. Da anni sviluppa prodotti di Video analisi con ottiche visibili e termiche. \nVidex\n\nVidex è un produttore Italiano di Videocitofonia\, famosissimo in tutto il mondo per aver sviluppato il primo Videocitofono su fibra ottica e su rete GSM. \n\nSoluzione TVSITALIAAbbiamo sviluppato un sistema che permette all’installatore di unificare il meglio dei 3 sistemi e di unificare il tutto in un unico grande sistema. \nCosa parlerà il corso?Il corso parlerà delle novità dei 3 marchi partecipanti e dell’integrazione dei sistemi \n\nSistema domotico Ksenia Securirt \n\nIntegrazione con il sistema Videx \n\nNuovi prodotti termici Hikvision \n\nIntegrazione dei tre sistemi \n\nUtilizzo di una unica App \nScopri di più sui nostri corsi tecniciCosa parlerà il corso?Il corso parlerà delle novità dei 3 marchi partecipanti e dell’integrazione dei sistemi \n\nSistema domotico Ksenia Securirt \n\nIntegrazione con il sistema Videx \n\nNuovi prodotti termici Hikvision \n\nIntegrazione dei tre sistemi \n\nUtilizzo di una unica App \nScopri di più sui nostri corsi tecniciCosa parlerà il corso?Il corso parlerà delle novità dei 3 marchi partecipanti e dell’integrazione dei sistemi \n\nSistema domotico Ksenia Securirt \n\nIntegrazione con il sistema Videx \n\nNuovi prodotti termici Hikvision \n\nIntegrazione dei tre sistemi \n\nUtilizzo di una unica App \nScopri di più sui nostri corsi tecniciKsenia SecurityRoberto\nAntoniniTechnical trainer & Tech support presso Ksenia Security S.p.A. \nResponsabile tecnico Ksenia Security esperto nelle soluzioni Smart Home e Intrusione \nVidexCarlo\nScarpatiCEO & Sales Manager presso MARKETING REFERRAL \nResponsabile commerciale Videx per il mercato Italia. Grande esperto del mondo Videocitofonia con 20 anni di esperienza \nTVSITALIAAndrea\nPezResponsabile Tecnico TVSITALIA e responsabile filiale Gruaro \nResponsabile tecnico Senior TVSITALIA per i progetti di integrazioni e lo sviluppo delle nuove tecnologie. \nKsenia SecurityRoberto\nAntoniniTechnical trainer & Tech support presso Ksenia Security S.p.A. \nResponsabile tecnico Ksenia Security esperto nelle soluzioni Smart Home e Intrusione \nVidexCarlo\nScarpatiCEO & Sales Manager presso MARKETING REFERRAL \nResponsabile commerciale Videx per il mercato Italia. Grande esperto del mondo Videocitofonia con 20 anni di esperienza \nTVSITALIAAndrea\nPezResponsabile Tecnico TVSITALIA e responsabile filiale Gruaro \nResponsabile tecnico Senior TVSITALIA per i progetti di integrazioni e lo sviluppo delle nuove tecnologie. \nKsenia SecurityRoberto\nAntoniniTechnical trainer & Tech support presso Ksenia Security S.p.A. \nResponsabile tecnico Ksenia Security esperto nelle soluzioni Smart Home e Intrusione \nVidexCarlo\nScarpatiCEO & Sales Manager presso MARKETING REFERRAL \nResponsabile commerciale Videx per il mercato Italia. Grande esperto del mondo Videocitofonia con 20 anni di esperienza \nTVSITALIAAndrea\nPezResponsabile Tecnico TVSITALIA e responsabile filiale Gruaro \nResponsabile tecnico Senior TVSITALIA per i progetti di integrazioni e lo sviluppo delle nuove tecnologie. \nAntifurto residenzialeUlteriori funzioni del pannello di controllo\, nel campo della semplice automazione degli edifici\, consentono ad es. accensione o spegnimento di punti luce selezionati o apertura del cancello d’ingresso o del garage. \nAntifurto residenzialeUlteriori funzioni del pannello di controllo\, nel campo della semplice automazione degli edifici\, consentono ad es. accensione o spegnimento di punti luce selezionati o apertura del cancello d’ingresso o del garage. \nAntifurto residenzialeUlteriori funzioni del pannello di controllo\, nel campo della semplice automazione degli edifici\, consentono ad es. accensione o spegnimento di punti luce selezionati o apertura del cancello d’ingresso o del garage. \nSmart HomeL’intera serie di centrali Antintrusione Elkron Medea\, supporta il modulo Zigbee per la gestione dei dispositivi domotici da poter inserire in casa o in ufficio. \nSicurezza sempre!Vuoi adattare ancora più facilmente il funzionamento del sistema alle tue esigenze? Dividere l’area di protezione in due zone separate. In ognuno di essi è possibile impostare autonomamente una delle tre modalità di standby: giorno\, notte o pieno. \nSmart HomeL’intera serie di centrali Antintrusione Elkron Medea\, supporta il modulo Zigbee per la gestione dei dispositivi domotici da poter inserire in casa o in ufficio. \nSicurezza sempre!Vuoi adattare ancora più facilmente il funzionamento del sistema alle tue esigenze? Dividere l’area di protezione in due zone separate. In ognuno di essi è possibile impostare autonomamente una delle tre modalità di standby: giorno\, notte o pieno. \nSmart HomeL’intera serie di centrali Antintrusione Elkron Medea\, supporta il modulo Zigbee per la gestione dei dispositivi domotici da poter inserire in casa o in ufficio. \nSicurezza sempre!Vuoi adattare ancora più facilmente il funzionamento del sistema alle tue esigenze? Dividere l’area di protezione in due zone separate. In ognuno di essi è possibile impostare autonomamente una delle tre modalità di standby: giorno\, notte o pieno.
URL:https://tvsitalia.it/event/cosa-ne-sai-dei-meta-dati/
LOCATION:TVSITALIA sede di Loreggia\, Via dell'artigianato 8/A\, Loreggia\, Padova\, 35010\, Italia
CATEGORIES:Hikvision,Ksenia Security,Videx
ATTACH;FMTTYPE=image/jpeg:https://tvsitalia.it/wp-content/uploads/2023/02/corso-ksenia.jpg
END:VEVENT
END:VCALENDAR