BEGIN:VCALENDAR
VERSION:2.0
PRODID:-//TVSITALIA - ECPv6.15.18//NONSGML v1.0//EN
CALSCALE:GREGORIAN
METHOD:PUBLISH
X-WR-CALNAME:TVSITALIA
X-ORIGINAL-URL:https://tvsitalia.it
X-WR-CALDESC:Eventi per TVSITALIA
REFRESH-INTERVAL;VALUE=DURATION:PT1H
X-Robots-Tag:noindex
X-PUBLISHED-TTL:PT1H
BEGIN:VTIMEZONE
TZID:Europe/Rome
BEGIN:DAYLIGHT
TZOFFSETFROM:+0100
TZOFFSETTO:+0200
TZNAME:CEST
DTSTART:20210328T010000
END:DAYLIGHT
BEGIN:STANDARD
TZOFFSETFROM:+0200
TZOFFSETTO:+0100
TZNAME:CET
DTSTART:20211031T010000
END:STANDARD
BEGIN:DAYLIGHT
TZOFFSETFROM:+0100
TZOFFSETTO:+0200
TZNAME:CEST
DTSTART:20220327T010000
END:DAYLIGHT
BEGIN:STANDARD
TZOFFSETFROM:+0200
TZOFFSETTO:+0100
TZNAME:CET
DTSTART:20221030T010000
END:STANDARD
BEGIN:DAYLIGHT
TZOFFSETFROM:+0100
TZOFFSETTO:+0200
TZNAME:CEST
DTSTART:20230326T010000
END:DAYLIGHT
BEGIN:STANDARD
TZOFFSETFROM:+0200
TZOFFSETTO:+0100
TZNAME:CET
DTSTART:20231029T010000
END:STANDARD
END:VTIMEZONE
BEGIN:VEVENT
DTSTART;TZID=Europe/Rome:20220304T140000
DTEND;TZID=Europe/Rome:20220304T180000
DTSTAMP:20260423T154137
CREATED:20220221T155336Z
LAST-MODIFIED:20220302T110302Z
UID:34169-1646402400-1646416800@tvsitalia.it
SUMMARY:Open Day Ksenia Loreggia
DESCRIPTION:Open Day Ksenia Security Loreggia\nPartecipa al corso di presentazione tecnica della nuova linea prodotti Ksenia security\, acquista il kit e registra la centrale nel portale Ksenia secureweb per gli installatori.\nRiceverai in omaggio la centrale appena registrata e il kit di benvenuto. \nVieni in TVSITALIA all’orario che desideri e incontra i nostri esperti…\nA partire dalle ore 14:00 nel punto vendita TVSITALIA di Loreggia\, Andrea Rossetto Tecnico Master Ksenia Security\, sarà a tua disposizione fer portarti alla scoperta del mondo Ksenia Security. Potrai vedere e toccare con mano tutti i prodotti e le novità del mondo Ksenia Security\, provare le potenzialità del Cloud Kseniasecureweb\, le favolose possibilità installative date dall’App installatore. \nCosa potrai trovare partecipando all’evento?\n– Toccare con mano tutti i prodotti Ksenia Security\n– Vedere in anteprima le novità del mondo Ksenia Security\n– Passi di configurazione e programmazione su misura\n– Creazione di offerte con prezzi speciali OpenDay\n– Confronto e dimostrazioni pratiche di installazioni tipo\n– Favolosi Gadget da ritirare
URL:https://tvsitalia.it/event/ksenia-security-loreggia/
LOCATION:TVSITALIA sede di Loreggia\, Via dell'artigianato 8/A\, Loreggia\, Padova\, 35010\, Italia
CATEGORIES:Ksenia Security
ATTACH;FMTTYPE=image/jpeg:https://tvsitalia.it/wp-content/uploads/2022/02/Ksenia-Loreggia-web.jpg
END:VEVENT
BEGIN:VEVENT
DTSTART;TZID=Europe/Rome:20220304T140000
DTEND;TZID=Europe/Rome:20220304T180000
DTSTAMP:20260423T154137
CREATED:20220221T155559Z
LAST-MODIFIED:20220302T110342Z
UID:34176-1646402400-1646416800@tvsitalia.it
SUMMARY:Open Day Ksenia Villorba
DESCRIPTION:Open Day Ksenia Security Villorba\nPartecipa al corso di presentazione tecnica della nuova linea prodotti Ksenia security\, acquista il kit e registra la centrale nel portale Ksenia secureweb per gli installatori.\nRiceverai in omaggio la centrale appena registrata e il kit di benvenuto. \nVieni in TVSITALIA all’orario che desideri e incontra i nostri esperti…\nA partire dalle ore 14:00 nel punto vendita TVSITALIA di Villorba\, Andrea Pez Tecnico Master Ksenia Security\, sarà a tua disposizione fer portarti alla scoperta del mondo Ksenia Security. Potrai vedere e toccare con mano tutti i prodotti e le novità del mondo Ksenia Security\, provare le potenzialità del Cloud Kseniasecureweb\, le favolose possibilità installative date dall’App installatore. \nCosa potrai trovare partecipando all’evento?\n– Toccare con mano tutti i prodotti Ksenia Security\n– Vedere in anteprima le novità del mondo Ksenia Security\n– Passi di configurazione e programmazione su misura\n– Creazione di offerte con prezzi speciali OpenDay\n– Confronto e dimostrazioni pratiche di installazioni tipo\n– Favolosi Gadget da ritirare
URL:https://tvsitalia.it/event/ksenia-security-villorba/
LOCATION:TVSITALIA sede di Villorba\, Via Isaac Newton\, 25\, Villorba\, Treviso\, 31020\, Italia
CATEGORIES:Ksenia Security
ATTACH;FMTTYPE=image/jpeg:https://tvsitalia.it/wp-content/uploads/2022/02/Ksenia-Villorba-web.jpg
END:VEVENT
BEGIN:VEVENT
DTSTART;TZID=Europe/Rome:20220304T140000
DTEND;TZID=Europe/Rome:20220304T180000
DTSTAMP:20260423T154137
CREATED:20220221T155843Z
LAST-MODIFIED:20220302T110443Z
UID:34179-1646402400-1646416800@tvsitalia.it
SUMMARY:Open Day Ksenia Padova
DESCRIPTION:Open Day Ksenia Security Padova\nPartecipa al corso di presentazione tecnica della nuova linea prodotti Ksenia security\, acquista il kit e registra la centrale nel portale Ksenia secureweb per gli installatori.\nRiceverai in omaggio la centrale appena registrata e il kit di benvenuto. \nVieni in TVSITALIA all’orario che desideri e incontra i nostri esperti…\nA partire dalle ore 14:00 nel punto vendita TVSITALIA di Padova\, Alberto Tagliolini Tecnico Master Ksenia Security\, sarà a tua disposizione fer portarti alla scoperta del mondo Ksenia Security. Potrai vedere e toccare con mano tutti i prodotti e le novità del mondo Ksenia Security\, provare le potenzialità del Cloud Kseniasecureweb\, le favolose possibilità installative date dall’App installatore. \nCosa potrai trovare partecipando all’evento?\n– Toccare con mano tutti i prodotti Ksenia Security\n– Vedere in anteprima le novità del mondo Ksenia Security\n– Passi di configurazione e programmazione su misura\n– Creazione di offerte con prezzi speciali OpenDay\n– Confronto e dimostrazioni pratiche di installazioni tipo\n– Favolosi Gadget da ritirare
URL:https://tvsitalia.it/event/ksenia-security-padova/
LOCATION:TVSITALIA sede di Padova\, Viale della Navigazione Interna\, 79\, Padova\, 35129\, Italia
CATEGORIES:Ksenia Security
ATTACH;FMTTYPE=image/jpeg:https://tvsitalia.it/wp-content/uploads/2022/02/Ksenia-Padova-web.jpg
END:VEVENT
BEGIN:VEVENT
DTSTART;TZID=Europe/Rome:20220304T140000
DTEND;TZID=Europe/Rome:20220304T180000
DTSTAMP:20260423T154137
CREATED:20220221T160218Z
LAST-MODIFIED:20220302T110417Z
UID:34181-1646402400-1646416800@tvsitalia.it
SUMMARY:Open Day Ksenia Vicenza
DESCRIPTION:Open Day Ksenia Security Vicenza\nPartecipa al corso di presentazione tecnica della nuova linea prodotti Ksenia security\, acquista il kit e registra la centrale nel portale Ksenia secureweb per gli installatori.\nRiceverai in omaggio la centrale appena registrata e il kit di benvenuto. \nVieni in TVSITALIA all’orario che desideri e incontra i nostri esperti…\nA partire dalle ore 14:00 nel punto vendita TVSITALIA di Vicenza\, Rino Mancon Tecnico Master Ksenia Security\, sarà a tua disposizione fer portarti alla scoperta del mondo Ksenia Security. Potrai vedere e toccare con mano tutti i prodotti e le novità del mondo Ksenia Security\, provare le potenzialità del Cloud Kseniasecureweb\, le favolose possibilità installative date dall’App installatore. \nCosa potrai trovare partecipando all’evento?\n– Toccare con mano tutti i prodotti Ksenia Security\n– Vedere in anteprima le novità del mondo Ksenia Security\n– Passi di configurazione e programmazione su misura\n– Creazione di offerte con prezzi speciali OpenDay\n– Confronto e dimostrazioni pratiche di installazioni tipo\n– Favolosi Gadget da ritirare
URL:https://tvsitalia.it/event/ksenia-security-vicenza/
LOCATION:TVSITALIA sede di Vicenza\, Viale del lavoro\, 6\, Vicenza\, 36100\, Italia
CATEGORIES:Ksenia Security
ATTACH;FMTTYPE=image/jpeg:https://tvsitalia.it/wp-content/uploads/2022/02/Ksenia-vicenza-web.jpg
END:VEVENT
BEGIN:VEVENT
DTSTART;TZID=Europe/Rome:20220310T140000
DTEND;TZID=Europe/Rome:20220310T170000
DTSTAMP:20260423T154137
CREATED:20220221T112449Z
LAST-MODIFIED:20220221T142044Z
UID:34141-1646920800-1646931600@tvsitalia.it
SUMMARY:Webinar normative e progettazione Antincendio
DESCRIPTION:Webinar sulle normative per l’antincendio\nPartecipa al webinar dedicato a tutti gli installatori che operano già o che vorrebbero entrare nel mondo Antincendio.\nGiovedì 10 Marzo 2022 ore 14:00 – 17:00 \nWebinar tecnico norme e regolamenti Antincendio.\nA Sei un installatore che vuole approcciare al mondo Fire? O vuoi essere già aggiornato sui nuovi regolamenti e sulle normative viggenti\, iscriviti al webinar online. \nCosa potrai trovare partecipando all’evento?\n– Che cos’è la Regola dell’arte?\n– Le tecnologie di rivelazione incendio\n– La norma UNI 9795 del 2021:\nApplicazione\, installazione e dimensionamento dei sistemi manuali e automatici di rivelazione incendi\n– Progettazione e installazione degli avvisatori ottico-acustici\n– Caratteristiche dei sistemi ASD  (Aspirating Smoke Detection)\n– La norma  UNI 11224 2019:\n– Controllo iniziale e manutenzione dei sistemi di rivelazione incendi.
URL:https://tvsitalia.it/event/antincendio-elkron/
LOCATION:WEBINAR ONLINE\, Non in presenza\, ma tramite\, piattaforma online
CATEGORIES:Elkron
ATTACH;FMTTYPE=image/jpeg:https://tvsitalia.it/wp-content/uploads/2022/02/Elkron-fire-tvs.jpg
END:VEVENT
END:VCALENDAR