BEGIN:VCALENDAR
VERSION:2.0
PRODID:-//TVSITALIA - ECPv6.15.18//NONSGML v1.0//EN
CALSCALE:GREGORIAN
METHOD:PUBLISH
X-ORIGINAL-URL:https://tvsitalia.it
X-WR-CALDESC:Eventi per TVSITALIA
REFRESH-INTERVAL;VALUE=DURATION:PT1H
X-Robots-Tag:noindex
X-PUBLISHED-TTL:PT1H
BEGIN:VTIMEZONE
TZID:Europe/Rome
BEGIN:DAYLIGHT
TZOFFSETFROM:+0100
TZOFFSETTO:+0200
TZNAME:CEST
DTSTART:20210328T010000
END:DAYLIGHT
BEGIN:STANDARD
TZOFFSETFROM:+0200
TZOFFSETTO:+0100
TZNAME:CET
DTSTART:20211031T010000
END:STANDARD
BEGIN:DAYLIGHT
TZOFFSETFROM:+0100
TZOFFSETTO:+0200
TZNAME:CEST
DTSTART:20220327T010000
END:DAYLIGHT
BEGIN:STANDARD
TZOFFSETFROM:+0200
TZOFFSETTO:+0100
TZNAME:CET
DTSTART:20221030T010000
END:STANDARD
BEGIN:DAYLIGHT
TZOFFSETFROM:+0100
TZOFFSETTO:+0200
TZNAME:CEST
DTSTART:20230326T010000
END:DAYLIGHT
BEGIN:STANDARD
TZOFFSETFROM:+0200
TZOFFSETTO:+0100
TZNAME:CET
DTSTART:20231029T010000
END:STANDARD
END:VTIMEZONE
BEGIN:VEVENT
DTSTART;TZID=Europe/Rome:20221005T143000
DTEND;TZID=Europe/Rome:20221005T183000
DTSTAMP:20260423T052905
CREATED:20220906T131005Z
LAST-MODIFIED:20220906T135914Z
UID:36775-1664980200-1664994600@tvsitalia.it
SUMMARY:Nuovi prodotti Ksenia Security 2022
DESCRIPTION:Corso sui nuovi prodotti Ksenia Security\n\nVieni in TVSITALIA e scopri tutte le novità del mondo Ksenia Security. \nTVSITALIA in collaborazione con Ksenia Security\, vuole invitari Mercoledì 5 Ottobre 2022\, ore 14:30 – 18:30 presso la sede TVSITALIA di Loreggia\, Via dell’artigianato 8/A per scoprire i nuovi prodotti del 2022\, vedere le nuove potenzialità inserite nella centrale lares 4.0\, le nuove tastiere\, e scopire l’integrazione con i dispositivi Hikvision e la Videoanalisi Acusense e Ai-Box.\n \nCorso sui nuovi prodotti Ksenia Security\n\nVieni in TVSITALIA e scopri tutte le novità del mondo Ksenia Security. \nTVSITALIA in collaborazione con Ksenia Security\, vuole invitari Mercoledì 5 Ottobre 2022\, ore 14:30 – 18:30 presso la sede TVSITALIA di Loreggia\, Via dell’artigianato 8/A per scoprire i nuovi prodotti del 2022\, vedere le nuove potenzialità inserite nella centrale lares 4.0\, le nuove tastiere\, e scopire l’integrazione con i dispositivi Hikvision e la Videoanalisi Acusense e Ai-Box. \nProgramma della giornata: \n– Panoramica nuovi prodotti e soluzioni Ksenia lares 4.0 con funzioni di controllo accessi\n– Nuova sirena Vox-C e Vox-M con audio e riproduzione messaggi vocali di dissuasione\n– Nuova tastiera Touch Ergo-T Pro e nuova tastiera da esterno Ergo-X\n– Gestione e integrazione con l’intera gamma di telecamere IP AcuSense & ColorVu Hikvision.\n– Integrazione con dispositivo Ai-Box per videoanalisi con riconosimento e individuazione oggetti\, persone e veicoli.\n– Aperitivo e rinfresco \nProgramma della giornata: \n– Panoramica nuovi prodotti e soluzioni Ksenia lares 4.0 con funzioni di controllo accessi\n– Nuova sirena Vox-C e Vox-M con audio e riproduzione messaggi vocali di dissuasione\n– Nuova tastiera Touch Ergo-T Pro e nuova tastiera da esterno Ergo-X\n– Gestione e integrazione con l’intera gamma di telecamere IP AcuSense & ColorVu Hikvision.\n– Integrazione con dispositivo Ai-Box per videoanalisi con riconosimento e individuazione oggetti\, persone e veicoli.\n– Aperitivo e rinfresco
URL:https://tvsitalia.it/event/nuovi-prodotti-ksenia-security-2022/
LOCATION:TVSITALIA sede di Loreggia\, Via dell'artigianato 8/A\, Loreggia\, Padova\, 35010\, Italia
CATEGORIES:Ksenia Security
ATTACH;FMTTYPE=image/jpeg:https://tvsitalia.it/wp-content/uploads/2022/09/Corso-Ksenia-Loreggia.jpg
ORGANIZER;CN="TVSITALIA s.r.l":MAILTO:matteo@tvsitalia.it
END:VEVENT
END:VCALENDAR