BEGIN:VCALENDAR
VERSION:2.0
PRODID:-//TVSITALIA - ECPv6.15.18//NONSGML v1.0//EN
CALSCALE:GREGORIAN
METHOD:PUBLISH
X-ORIGINAL-URL:https://tvsitalia.it
X-WR-CALDESC:Eventi per TVSITALIA
REFRESH-INTERVAL;VALUE=DURATION:PT1H
X-Robots-Tag:noindex
X-PUBLISHED-TTL:PT1H
BEGIN:VTIMEZONE
TZID:Europe/Rome
BEGIN:DAYLIGHT
TZOFFSETFROM:+0100
TZOFFSETTO:+0200
TZNAME:CEST
DTSTART:20220327T010000
END:DAYLIGHT
BEGIN:STANDARD
TZOFFSETFROM:+0200
TZOFFSETTO:+0100
TZNAME:CET
DTSTART:20221030T010000
END:STANDARD
BEGIN:DAYLIGHT
TZOFFSETFROM:+0100
TZOFFSETTO:+0200
TZNAME:CEST
DTSTART:20230326T010000
END:DAYLIGHT
BEGIN:STANDARD
TZOFFSETFROM:+0200
TZOFFSETTO:+0100
TZNAME:CET
DTSTART:20231029T010000
END:STANDARD
BEGIN:DAYLIGHT
TZOFFSETFROM:+0100
TZOFFSETTO:+0200
TZNAME:CEST
DTSTART:20240331T010000
END:DAYLIGHT
BEGIN:STANDARD
TZOFFSETFROM:+0200
TZOFFSETTO:+0100
TZNAME:CET
DTSTART:20241027T010000
END:STANDARD
END:VTIMEZONE
BEGIN:VEVENT
DTSTART;TZID=Europe/Rome:20230216T140000
DTEND;TZID=Europe/Rome:20230216T180000
DTSTAMP:20260422T231902
CREATED:20230121T101329Z
LAST-MODIFIED:20230123T080700Z
UID:37720-1676556000-1676570400@tvsitalia.it
SUMMARY:Antincendio Elkron e normatie
DESCRIPTION:Corso Antincendio Elkron!Tocca con mano la potenza della centrale Medea \n[iee_image image_width=”400″ alignment=”left” click_action=”none” target=”_blank” image_shape=”default” blob_shape=”59% 41% 41% 59% / 29% 48% 52% 71%” images_border_radius=”4″ hover_animation=”enable” image_url=”https://tvsitalia.it/wp-content/uploads/2022/05/LOGO-elkron-sito.png” /]100% \nSoddisfazione delle tue aspettative… \n-50% \nTempo medio di installazione \nInformazioni per il corsoIl corso si terrà Giovedì 16 Febbraio 2023 presso la sede TVSITALIA di Loreggia\, Via dell’artigianato 8/A (PD)\, dalle ore 14:30 alle ore 18:30. \nSistemi di rivelazione convenzionale e digitale\, sistemi di spegnimento\, sistemi di rilevazione gas\, rivelazione incendio wireless e ad aspirazione\, oltre ad una gamma completa di accessori hardware e applicazioni software che consentono vari livelli di personalizzazione. \nSistemi certificatiDal 1992 tutti i prodotti Antincendio Elkron sono certificati secondo le Norme EN54 \nprotezione\nAvanzataIl catalogo comprende famiglie di prodotto complete\, di facile utilizzo\, omologate e per ogni richiesta di sicurezza. \nPer tutti gli impiantiI sistemi convenzionali Elkron sono ideali per tutte le applicazioni in ambito terziario e industriale. \nEvac e non soloSono idonei in ambienti come supermercati\, cinema\, musei\, scuole\, uffici\, alberghi ecc. \nCosa devi portare al corso?Assolutamente nulla\, al tuo arrivo troverai già tutto il materiale nella postazione a te assegnata. \n\nTutto il materiale lo trovi già qui \n\nMassimo 50 partecipanti per un coinvolgimento totale \n\nProdotti e Normative a portata di tutti\, con il corso TVSITALIA non avrai più dubbi su che prodotto usare… \nScopri di più su medeaProtezione IncendiI sistemi Antincendio Elkron\, sono la risposta ideale per proteggere ambienti domestici e lavorativi. \nSmart HomeL’intera serie di centrali Antintrusione Elkron Medea\, supporta il modulo Zigbee per la gestione dei dispositivi domotici da poter inserire in casa o in ufficio. \nSicurezza sempre!L’intera serie di centrali e dispositivi Antincendio Elkron dispongono di tutte le certificazioni e compliance normativi.
URL:https://tvsitalia.it/event/antincendio-elkron-e-normatie/
LOCATION:TVSITALIA sede di Loreggia\, Via dell'artigianato 8/A\, Loreggia\, Padova\, 35010\, Italia
CATEGORIES:Elkron
ATTACH;FMTTYPE=image/jpeg:https://tvsitalia.it/wp-content/uploads/2023/01/elkron-incendio-1.jpg
ORGANIZER;CN="TVSITALIA s.r.l":MAILTO:matteo@tvsitalia.it
END:VEVENT
BEGIN:VEVENT
DTSTART;TZID=Europe/Rome:20230222T140000
DTEND;TZID=Europe/Rome:20230222T183000
DTSTAMP:20260422T231902
CREATED:20230202T143312Z
LAST-MODIFIED:20230202T143312Z
UID:37771-1677074400-1677090600@tvsitalia.it
SUMMARY:Corso sulle novità Satel 2023
DESCRIPTION:Corso novità Satel 2023!Vieni a scoprire le fantastiche novità del mondo Satel \n[iee_image image_width=”400″ alignment=”left” click_action=”none” target=”_blank” image_shape=”default” blob_shape=”59% 41% 41% 59% / 29% 48% 52% 71%” images_border_radius=”4″ hover_animation=”enable” image_url=”https://tvsitalia.it/wp-content/uploads/2022/04/logo-satel.jpg” /]100% \nSoddisfazione delle tue aspettative… \n-50% \nTempo medio di installazione \nInformazioni per il corsoIl corso si terrà Mercoledì 22 Febbraio 2023 presso la sede TVSITALIA di Loreggia\, Via dell’artigianato 8/A (PD)\, dalle ore 14:30 alle ore 18:30. \nSistemi di rivelazione convenzionale e digitale\, sistemi di spegnimento\, sistemi di rilevazione gas\, rivelazione incendio wireless e ad aspirazione\, oltre ad una gamma completa di accessori hardware e applicazioni software che consentono vari livelli di personalizzazione. \nModuli di GSM & GPRStrasmissione eventi / dati e supervisione stato di altri sistemi (ad es. aria condizionata\, pompe\, supervisione di ascensori\, fuga di gas etc.) \nPerfecta\n64Oltre alla protezione contro i furti con scasso\, il sistema di allarme PERFECTA fornisce una protezione aggiuntiva reagendo ai primi sintomi di una minaccia diretta di incendio o allagamento. \nNuove tastierePuoi scegliere la tastiera con pulsanti grandi e comodi che facilita il funzionamento quotidiano del sistema\, oppure l’elegante tastiera Touch INT-TSG2 o INT-TSH2 \nIntegra controlInstalla l’applicazione INTEGRA CONTROL sul tuo smartphone o tablet per abilitare l’uso remoto delle funzioni del sistema di allarme\, e sbloccare le novità introdotte con il nuovo aggiornamento 6.0 \nCosa parlerà il corso?Il corso parlerà interamente delle novità che introdurrà Satel nel 2023. \n\nNuova centrale Perfecta 64 \n\nINT-TSG2 & INT-TSH2 nuove compatibilità e funzionalità \n\nNuove tastiere a basso assorbimento Wireless \n\nNuovi moduli di comunicazione \n\nTPH-2\, XD-2L\, ART-200 \nACSP: Centrale incendio indirizzabile\nNuova App Integra Control 6.0 \nScopri di più su perfecta 64Antifurto residenzialeUlteriori funzioni del pannello di controllo\, nel campo della semplice automazione degli edifici\, consentono ad es. accensione o spegnimento di punti luce selezionati o apertura del cancello d’ingresso o del garage. \nSmart HomeL’intera serie di centrali Antintrusione Elkron Medea\, supporta il modulo Zigbee per la gestione dei dispositivi domotici da poter inserire in casa o in ufficio. \nSicurezza sempre!Vuoi adattare ancora più facilmente il funzionamento del sistema alle tue esigenze? Dividere l’area di protezione in due zone separate. In ognuno di essi è possibile impostare autonomamente una delle tre modalità di standby: giorno\, notte o pieno.
URL:https://tvsitalia.it/event/corso-sulle-novita-satel-2023/
LOCATION:TVSITALIA sede di Loreggia\, Via dell'artigianato 8/A\, Loreggia\, Padova\, 35010\, Italia
CATEGORIES:Satel
ATTACH;FMTTYPE=image/jpeg:https://tvsitalia.it/wp-content/uploads/2023/01/corso-satel.jpg
END:VEVENT
END:VCALENDAR