BEGIN:VCALENDAR
VERSION:2.0
PRODID:-//TVSITALIA - ECPv6.15.18//NONSGML v1.0//EN
CALSCALE:GREGORIAN
METHOD:PUBLISH
X-WR-CALNAME:TVSITALIA
X-ORIGINAL-URL:https://tvsitalia.it
X-WR-CALDESC:Eventi per TVSITALIA
REFRESH-INTERVAL;VALUE=DURATION:PT1H
X-Robots-Tag:noindex
X-PUBLISHED-TTL:PT1H
BEGIN:VTIMEZONE
TZID:Europe/Rome
BEGIN:DAYLIGHT
TZOFFSETFROM:+0100
TZOFFSETTO:+0200
TZNAME:CEST
DTSTART:20220327T010000
END:DAYLIGHT
BEGIN:STANDARD
TZOFFSETFROM:+0200
TZOFFSETTO:+0100
TZNAME:CET
DTSTART:20221030T010000
END:STANDARD
BEGIN:DAYLIGHT
TZOFFSETFROM:+0100
TZOFFSETTO:+0200
TZNAME:CEST
DTSTART:20230326T010000
END:DAYLIGHT
BEGIN:STANDARD
TZOFFSETFROM:+0200
TZOFFSETTO:+0100
TZNAME:CET
DTSTART:20231029T010000
END:STANDARD
BEGIN:DAYLIGHT
TZOFFSETFROM:+0100
TZOFFSETTO:+0200
TZNAME:CEST
DTSTART:20240331T010000
END:DAYLIGHT
BEGIN:STANDARD
TZOFFSETFROM:+0200
TZOFFSETTO:+0100
TZNAME:CET
DTSTART:20241027T010000
END:STANDARD
END:VTIMEZONE
BEGIN:VEVENT
DTSTART;TZID=Europe/Rome:20230707T143000
DTEND;TZID=Europe/Rome:20230707T180000
DTSTAMP:20260422T153347
CREATED:20230626T122232Z
LAST-MODIFIED:20230626T125151Z
UID:38357-1688740200-1688752800@tvsitalia.it
SUMMARY:Corso pratico Perfecta 64 M - Loreggia
DESCRIPTION:Corso pratico Perfecta 64 M!Vieni a provare la nuova centrale satel \n[iee_image image_width=”400″ alignment=”left” click_action=”none” target=”_blank” image_shape=”default” blob_shape=”59% 41% 41% 59% / 29% 48% 52% 71%” images_border_radius=”4″ hover_animation=”enable” image_url=”https://tvsitalia.it/wp-content/uploads/2022/04/logo-satel.jpg” /]100% \nSoddisfazione delle tue aspettative… \n-75% \nTempo medio di installazione \nInformazioni per il corsoIl corso si terrà Venerdì 7 Luglio 2023 presso la sede TVSITALIA di Loreggia\, Via dell’artigianato 8/A (PD)\, dalle ore 14:30 alle ore 18:00. La centrale di allarme PERFECTA 64 M è ideale per la protezione di appartamenti\, case unifamiliari\, villette a schiera\, uffici\, magazzini. Conforme alla norma EN 50131 Grado 2. La sua forza sta nella semplicità di configurazione\, così come è facile e intuitivo il suo utilizzo tramite tastiere touch o tradizionali. La funzionalità e la gestione può essere controllata da remoto tramite l’applicazione mobile PERFECTA CONTROL o i telecomandi. \nPERFECTA 64 M è una centrale ibrida a cui possono essere abbinati a scelta\, due tipi di sistemi wireless: ABAX 2 (con ricevitori ACU-220 o ACU-280) o MICRA (tramite PERFECTA-RF)\, in alternativa\, se si ha bisogno solo dell’utilizzo di telecomandi è possibile aggiungere il ricevitore INT-RX-S. \nModuli di GSM & GPRStrasmissione eventi / dati e supervisione stato di altri sistemi (ad es. aria condizionata\, pompe\, supervisione di ascensori\, fuga di gas etc.) \nPerfecta\n64Oltre alla protezione contro i furti con scasso\, il sistema di allarme PERFECTA fornisce una protezione aggiuntiva reagendo ai primi sintomi di una minaccia diretta di incendio o allagamento. \nNuove tastierePuoi scegliere la tastiera con pulsanti grandi e comodi che facilita il funzionamento quotidiano del sistema\, oppure l’elegante tastiera Touch INT-TSG2 o INT-TSH2 \nPerfecta controlInstalla l’applicazione PERFECTA CONTROL sul tuo smartphone o tablet per abilitare l’uso remoto delle funzioni del sistema di allarme\, e gestire comodamente tutta la tua casa! \nCosa parlerà il corso?Il corso parlerà interamente delle novità che introdurrà Satel nel 2023. \n\nNuova centrale Perfecta 64 \n\nINT-TSG2 & INT-TSH2 nuove compatibilità e funzionalità \n\nPrima accensione Centrale perfeca 64 M \n\nConfigurazione base \n\nSimulazione impianto \n\nConnessione con i dispositivi wireless \n\nNuova App PERFECTA Control \nScopri di più su perfecta 64Antifurto residenzialeUlteriori funzioni del pannello di controllo\, nel campo della semplice automazione degli edifici\, consentono ad es. accensione o spegnimento di punti luce selezionati o apertura del cancello d’ingresso o del garage. \nSmart HomeL’intera serie di centrali Antintrusione Elkron Medea\, supporta il modulo Zigbee per la gestione dei dispositivi domotici da poter inserire in casa o in ufficio. \nSicurezza sempre!Vuoi adattare ancora più facilmente il funzionamento del sistema alle tue esigenze? Dividere l’area di protezione in due zone separate. In ognuno di essi è possibile impostare autonomamente una delle tre modalità di standby: giorno\, notte o pieno.
URL:https://tvsitalia.it/event/corso-pratico-perfecta-64-m-loreggia/
LOCATION:TVSITALIA sede di Loreggia\, Via dell'artigianato 8/A\, Loreggia\, Padova\, 35010\, Italia
CATEGORIES:Satel
ATTACH;FMTTYPE=image/jpeg:https://tvsitalia.it/wp-content/uploads/2023/06/Corso-Perfecta-Loreggia.jpg
END:VEVENT
END:VCALENDAR