BEGIN:VCALENDAR
VERSION:2.0
PRODID:-//TVSITALIA - ECPv6.15.18//NONSGML v1.0//EN
CALSCALE:GREGORIAN
METHOD:PUBLISH
X-ORIGINAL-URL:https://tvsitalia.it
X-WR-CALDESC:Eventi per TVSITALIA
REFRESH-INTERVAL;VALUE=DURATION:PT1H
X-Robots-Tag:noindex
X-PUBLISHED-TTL:PT1H
BEGIN:VTIMEZONE
TZID:Europe/Rome
BEGIN:DAYLIGHT
TZOFFSETFROM:+0100
TZOFFSETTO:+0200
TZNAME:CEST
DTSTART:20210328T010000
END:DAYLIGHT
BEGIN:STANDARD
TZOFFSETFROM:+0200
TZOFFSETTO:+0100
TZNAME:CET
DTSTART:20211031T010000
END:STANDARD
BEGIN:DAYLIGHT
TZOFFSETFROM:+0100
TZOFFSETTO:+0200
TZNAME:CEST
DTSTART:20220327T010000
END:DAYLIGHT
BEGIN:STANDARD
TZOFFSETFROM:+0200
TZOFFSETTO:+0100
TZNAME:CET
DTSTART:20221030T010000
END:STANDARD
BEGIN:DAYLIGHT
TZOFFSETFROM:+0100
TZOFFSETTO:+0200
TZNAME:CEST
DTSTART:20230326T010000
END:DAYLIGHT
BEGIN:STANDARD
TZOFFSETFROM:+0200
TZOFFSETTO:+0100
TZNAME:CET
DTSTART:20231029T010000
END:STANDARD
END:VTIMEZONE
BEGIN:VEVENT
DTSTART;TZID=Europe/Rome:20220310T140000
DTEND;TZID=Europe/Rome:20220310T170000
DTSTAMP:20260423T172659
CREATED:20220221T112449Z
LAST-MODIFIED:20220221T142044Z
UID:34141-1646920800-1646931600@tvsitalia.it
SUMMARY:Webinar normative e progettazione Antincendio
DESCRIPTION:Webinar sulle normative per l’antincendio\nPartecipa al webinar dedicato a tutti gli installatori che operano già o che vorrebbero entrare nel mondo Antincendio.\nGiovedì 10 Marzo 2022 ore 14:00 – 17:00 \nWebinar tecnico norme e regolamenti Antincendio.\nA Sei un installatore che vuole approcciare al mondo Fire? O vuoi essere già aggiornato sui nuovi regolamenti e sulle normative viggenti\, iscriviti al webinar online. \nCosa potrai trovare partecipando all’evento?\n– Che cos’è la Regola dell’arte?\n– Le tecnologie di rivelazione incendio\n– La norma UNI 9795 del 2021:\nApplicazione\, installazione e dimensionamento dei sistemi manuali e automatici di rivelazione incendi\n– Progettazione e installazione degli avvisatori ottico-acustici\n– Caratteristiche dei sistemi ASD  (Aspirating Smoke Detection)\n– La norma  UNI 11224 2019:\n– Controllo iniziale e manutenzione dei sistemi di rivelazione incendi.
URL:https://tvsitalia.it/event/antincendio-elkron/
LOCATION:WEBINAR ONLINE\, Non in presenza\, ma tramite\, piattaforma online
CATEGORIES:Elkron
ATTACH;FMTTYPE=image/jpeg:https://tvsitalia.it/wp-content/uploads/2022/02/Elkron-fire-tvs.jpg
END:VEVENT
END:VCALENDAR