BEGIN:VCALENDAR
VERSION:2.0
PRODID:-//TVSITALIA - ECPv6.15.18//NONSGML v1.0//EN
CALSCALE:GREGORIAN
METHOD:PUBLISH
X-ORIGINAL-URL:https://tvsitalia.it
X-WR-CALDESC:Eventi per TVSITALIA
REFRESH-INTERVAL;VALUE=DURATION:PT1H
X-Robots-Tag:noindex
X-PUBLISHED-TTL:PT1H
BEGIN:VTIMEZONE
TZID:UTC
BEGIN:STANDARD
TZOFFSETFROM:+0000
TZOFFSETTO:+0000
TZNAME:UTC
DTSTART:20210101T000000
END:STANDARD
END:VTIMEZONE
BEGIN:VEVENT
DTSTART;TZID=UTC:20220608T103000
DTEND;TZID=UTC:20220608T183000
DTSTAMP:20260423T124237
CREATED:20220530T090042Z
LAST-MODIFIED:20220530T095432Z
UID:35855-1654684200-1654713000@tvsitalia.it
SUMMARY:Nice on tour 2022 - Loreggia
DESCRIPTION:Nice on Tour 2022 🚍 \nMercoledì 8 Giugno 2022 vieni in TVSITALIA a Loreggia e scopri le novità del mondo Nice Yubii.\n \nTVSITALIA ti invita Mercoledì 8 Giugno 2022 dalle ore 10:30 presso il punto vendita di Loreggia in via dell’artiganato 8/A per l’appuntamento dedicato a tutti gli installatori che vogliono approfondire l’ecosistema domotico NICE YUBII. \nDurante la giornata tutti i partecipanti avrano la possibilità di vedere e testare le potenzialità del sistema tramite prove pratiche direttamente dal Nice truck allestito per l’occasione\, vedere come lavora e quali vantaggi si possono offrire all’utente finale\, e quali vantaggi da l’ecosistema Yubii rispetto ai prodotti della concorrenza. \nPerchè è importante partecipare?\nUn momento di formazione e convivialità per scoprire e provare nuovi prodotti e nuove opportunità lavorative. \nTutti i partecipanti avranno la possibilità di: \n\nHome center Yubii ad un prezzo speciale\nExtra sconto su tutti i componenti Nice\nProve pratiche su argomenti da voi selezionati\nPossibilità di parlare direttamente con gli esperti NICE\nPriorità di assistenza in caso di acquisto
URL:https://tvsitalia.it/event/nice-on-tour-2022-loreggia/
LOCATION:TVSITALIA sede di Loreggia\, Via dell'artigianato 8/A\, Loreggia\, Padova\, 35010\, Italia
CATEGORIES:Nice
ATTACH;FMTTYPE=image/jpeg:https://tvsitalia.it/wp-content/uploads/2022/05/Nice_tour_2022_loreggia-1.jpg
END:VEVENT
BEGIN:VEVENT
DTSTART;TZID=UTC:20220608T140000
DTEND;TZID=UTC:20220608T173000
DTSTAMP:20260423T124237
CREATED:20220531T162132Z
LAST-MODIFIED:20220601T151515Z
UID:35891-1654696800-1654709400@tvsitalia.it
SUMMARY:Integrazione Videoanalisi AiBox e Antifurto Ksenia
DESCRIPTION:Ti presenteremo il nuovo modo di concepire la videoanalisi! \nVuoi scoprire le potezialità offerte dall’integrazione tra le telecamere Hikvision\, la videoanalisi Ganz e l’antifurto Ksenia? \nMercoledì 8 Giugno 2022\, presso la sede di TVSITALIA – Gruaro\, si terrà il corso sulla videoanalisi integrata al mondo sicurezza. L’evento verrà fatto in collaborazione con Ksenia Security e Ganz\, per mostrarti il nuovo standard di sicurezza nato dall’integrazione tra la Videoanalisi di AI-Box e la piattaforma antintrusione Lares4.0\, che eleva la percezione di sicurezza nell’utente finale e valorizza la professionalità dell’installatore. \nPerchè è importante partecipare?\nL’appuntamento mira a mostrare la profonda integrazione che TVSITALIA è riuscita ad ottenere tra la videoanalisi Ganz e l’antifurto Ksenia Security tramite l’ausilio delle telecamere Hikvsion. \nProgramma della giornata: \n\nlares4.0 : non chiamatela centrale di allarme!\nPorta IoT e Zone IP\, cosa sono e come vanno utilizzati\nSoluzioni di videoanalisi avanzata GANZ\nAI-Box: L’evoluzione della videoanalisi\nEsempi pratici di integrazione\nDomande finali\nAperitivo e buffet
URL:https://tvsitalia.it/event/integrazione-videoanalisi-aibox-e-antifurto-ksenia/
LOCATION:TVSITALIA sede di Gruaro\, Via dell'artigianato 6D\, Gruaro\, 30020
CATEGORIES:Hikvision,Ksenia Security
ATTACH;FMTTYPE=image/jpeg:https://tvsitalia.it/wp-content/uploads/2022/05/Ksenia-ganz.jpg
END:VEVENT
END:VCALENDAR