BEGIN:VCALENDAR
VERSION:2.0
PRODID:-//TVSITALIA - ECPv6.15.18//NONSGML v1.0//EN
CALSCALE:GREGORIAN
METHOD:PUBLISH
X-WR-CALNAME:TVSITALIA
X-ORIGINAL-URL:https://tvsitalia.it
X-WR-CALDESC:Eventi per TVSITALIA
REFRESH-INTERVAL;VALUE=DURATION:PT1H
X-Robots-Tag:noindex
X-PUBLISHED-TTL:PT1H
BEGIN:VTIMEZONE
TZID:Europe/Rome
BEGIN:DAYLIGHT
TZOFFSETFROM:+0100
TZOFFSETTO:+0200
TZNAME:CEST
DTSTART:20210328T010000
END:DAYLIGHT
BEGIN:STANDARD
TZOFFSETFROM:+0200
TZOFFSETTO:+0100
TZNAME:CET
DTSTART:20211031T010000
END:STANDARD
BEGIN:DAYLIGHT
TZOFFSETFROM:+0100
TZOFFSETTO:+0200
TZNAME:CEST
DTSTART:20220327T010000
END:DAYLIGHT
BEGIN:STANDARD
TZOFFSETFROM:+0200
TZOFFSETTO:+0100
TZNAME:CET
DTSTART:20221030T010000
END:STANDARD
BEGIN:DAYLIGHT
TZOFFSETFROM:+0100
TZOFFSETTO:+0200
TZNAME:CEST
DTSTART:20230326T010000
END:DAYLIGHT
BEGIN:STANDARD
TZOFFSETFROM:+0200
TZOFFSETTO:+0100
TZNAME:CET
DTSTART:20231029T010000
END:STANDARD
END:VTIMEZONE
BEGIN:VEVENT
DTSTART;TZID=Europe/Rome:20221104T183000
DTEND;TZID=Europe/Rome:20221104T210000
DTSTAMP:20260423T053225
CREATED:20221008T064713Z
LAST-MODIFIED:20221014T144035Z
UID:36960-1667586600-1667595600@tvsitalia.it
SUMMARY:Heat Pizza Hikvision
DESCRIPTION:Heat Pizza HikvisionVuoi andare oltre la sicurezza facendo prevenzione incendi e controllo termico? Partecipa a Heat Pizza! \nHeat Pizza è un diverso e imperdibile momento di formazione dedicato agli installatori per scoprire le novità di Hikmicro. L’evento innovativo e fuori dal comune unisce formazione e convivialità. \nLa tecnologia termica è già un trend ben definito che un professionista non può non seguire. Hai mai pensato alla tecnologia termica per un impianto di anti intrusione? Un impianto video può diventare protezione perimetrale. \nGli argomenti trattati saranno:\n\n– Video Corporate HikMicro\n– Protezione Perimetrale: Nuova Tecnologia Bi-Spectrum HeatPro\n– Ispezioni Programmate per Manutenzione Predittiva: Modulo SmartPhone e B20\n– Automazione\, Controllo dei Processi Monitoraggio Quadri Elettrici: Cube Camera\n– Prevenzione Incendi: Nuova Serie HeatPro per Misurazione Temperatura Industriale \n DATA: 4 Novembre 2022\n ORA: 18:30 – 21:00\n LUOGO: Villa Italia\, Via S. Marco\, 51 35129 Padova (PD) \nHeat Pizza HikvisionVuoi andare oltre la sicurezza facendo prevenzione incendi e controllo termico?\n\nPartecipa a Heat Pizza! \nHeat Pizza è un diverso e imperdibile momento di formazione dedicato agli installatori per scoprire le novità di Hikmicro. L’evento innovativo e fuori dal comune unisce formazione e convivialità. \nLa tecnologia termica è già un trend ben definito che un professionista non può non seguire.\n\nHai mai pensato alla tecnologia termica per un impianto di anti intrusione? Un impianto video può diventare protezione perimetrale. \nGli argomenti trattati saranno:\n\n-Video Corporate HikMicro\n\n-Protezione Perimetrale: Nuova Tecnologia Bi-Spectrum HeatPro\n\n-Ispezioni Programmate per Manutenzione Predittiva: Modulo SmartPhone e B20\n\n-Automazione\, Controllo dei Processi Monitoraggio Quadri Elettrici: Cube Camera\n\n-Prevenzione Incendi: Nuova Serie HeatPro per Misurazione Temperatura Industriale \n DATA: 4 Novembre 2022\n ORA: 18:30 – 21:00\n LUOGO: Villa Italia\, Via S. Marco\, 51 35129 Padova (PD) \nHeat Pizza HikvisionVuoi andare oltre la sicurezza facendo prevenzione incendi e controllo termico?\n\nPartecipa a Heat Pizza! \nHeat Pizza è un diverso e imperdibile momento di formazione dedicato agli installatori per scoprire le novità di Hikmicro. L’evento innovativo e fuori dal comune unisce formazione e convivialità. \nLa tecnologia termica è già un trend ben definito che un professionista non può non seguire.\n\nHai mai pensato alla tecnologia termica per un impianto di anti intrusione? Un impianto video può diventare protezione perimetrale. \nGli argomenti trattati saranno:\n\n-Video Corporate HikMicro\n\n-Protezione Perimetrale: Nuova Tecnologia Bi-Spectrum HeatPro\n\n-Ispezioni Programmate per Manutenzione Predittiva: Modulo SmartPhone e B20\n\n-Automazione\, Controllo dei Processi Monitoraggio Quadri Elettrici: Cube Camera\n\n-Prevenzione Incendi: Nuova Serie HeatPro per Misurazione Temperatura Industriale \n DATA: 4 Novembre 2022\n ORA: 18:30 – 21:00\n LUOGO: Villa Italia\, Via S. Marco\, 51 35129 Padova (PD) \nUn evento HikvisionTutto da\ngustareHeat Pizza è un diverso e imperdibile evento dedicato agli installatori per scoprire le novità di Hikmicro. L’evento innovativo e fuori dal comune unisce formazione e convivialità IN PURO STILE TVSITALIA. \nLa tecnologia termica è già un trend ben definito che un professionista non può non seguire. \nUn evento HikvisionTutto da gustareHeat Pizza è un diverso e imperdibile evento dedicato agli installatori per scoprire le novità di Hikmicro. L’evento innovativo e fuori dal comune unisce formazione e convivialità IN PURO STILE TVSITALIA. \nLa tecnologia termica è già un trend ben definito che un professionista non può non seguire. \nUn evento HikvisionTutto da gustareHeat Pizza è un diverso e imperdibile evento dedicato agli installatori per scoprire le novità di Hikmicro. L’evento innovativo e fuori dal comune unisce formazione e convivialità IN PURO STILE TVSITALIA. \nLa tecnologia termica è già un trend ben definito che un professionista non può non seguire. \nIl punto di riferimento per un’impeccabile cena in compagnia. Il locale patavino propone le migliori specialità della cucina tipicamente italiana\, che vanno dalla carne al pesce fresco alla pizza\, il tutto utilizzando solamente materie prime altamente selezionate. \nTVSITALIA tiaspetta.Villa Italia\, un’oasi immersa nel verde vicina al centro di Padova\, con ampio parcheggio\, propone numerose specialità preparate utilizzando materie prime altamente selezionate ed ingredienti genuini. \nIl punto di riferimento per un’impeccabile cena in compagnia. Il locale patavino propone le migliori specialità della cucina tipicamente italiana\, che vanno dalla carne al pesce fresco alla pizza\, il tutto utilizzando solamente materie prime altamente selezionate. \nTVSITALIA ti aspetta.Villa Italia\, un’oasi immersa nel verde vicina al centro di Padova\, con ampio parcheggio\, propone numerose specialità preparate utilizzando materie prime altamente selezionate ed ingredienti genuini. \nIl punto di riferimento per un’impeccabile cena in compagnia. Il locale patavino propone le migliori specialità della cucina tipicamente italiana\, che vanno dalla carne al pesce fresco alla pizza\, il tutto utilizzando solamente materie prime altamente selezionate. \nTVSITALIA ti aspetta.Villa Italia\, un’oasi immersa nel verde vicina al centro di Padova\, con ampio parcheggio\, propone numerose specialità preparate utilizzando materie prime altamente selezionate ed ingredienti genuini.
URL:https://tvsitalia.it/event/heat-pizza-hikvision/
LOCATION:Padova
CATEGORIES:Hikvision
ATTACH;FMTTYPE=image/jpeg:https://tvsitalia.it/wp-content/uploads/2022/09/VILLA-ITALIA1.jpg
END:VEVENT
END:VCALENDAR