BEGIN:VCALENDAR
VERSION:2.0
PRODID:-//TVSITALIA - ECPv6.15.18//NONSGML v1.0//EN
CALSCALE:GREGORIAN
METHOD:PUBLISH
X-ORIGINAL-URL:https://tvsitalia.it
X-WR-CALDESC:Eventi per TVSITALIA
REFRESH-INTERVAL;VALUE=DURATION:PT1H
X-Robots-Tag:noindex
X-PUBLISHED-TTL:PT1H
BEGIN:VTIMEZONE
TZID:Europe/Rome
BEGIN:DAYLIGHT
TZOFFSETFROM:+0100
TZOFFSETTO:+0200
TZNAME:CEST
DTSTART:20230326T010000
END:DAYLIGHT
BEGIN:STANDARD
TZOFFSETFROM:+0200
TZOFFSETTO:+0100
TZNAME:CET
DTSTART:20231029T010000
END:STANDARD
BEGIN:DAYLIGHT
TZOFFSETFROM:+0100
TZOFFSETTO:+0200
TZNAME:CEST
DTSTART:20240331T010000
END:DAYLIGHT
BEGIN:STANDARD
TZOFFSETFROM:+0200
TZOFFSETTO:+0100
TZNAME:CET
DTSTART:20241027T010000
END:STANDARD
BEGIN:DAYLIGHT
TZOFFSETFROM:+0100
TZOFFSETTO:+0200
TZNAME:CEST
DTSTART:20250330T010000
END:DAYLIGHT
BEGIN:STANDARD
TZOFFSETFROM:+0200
TZOFFSETTO:+0100
TZNAME:CET
DTSTART:20251026T010000
END:STANDARD
END:VTIMEZONE
BEGIN:VEVENT
DTSTART;TZID=Europe/Rome:20240724T143000
DTEND;TZID=Europe/Rome:20240724T183000
DTSTAMP:20260421T223834
CREATED:20240708T115121Z
LAST-MODIFIED:20240708T120041Z
UID:40835-1721831400-1721845800@tvsitalia.it
SUMMARY:Open Day Elkron - Padova
DESCRIPTION:Open Day Elkron –\nPadovaVuoi conoscere tutte le novità e le integrazioni 2024 Elkron? Vieni nel punto vendita di Padova Mercoledì 25 Luglio\, i tecnici Elkron e TVSITALIA saranno a tua disposizione dalle ore 14:30 alle ore 18:30 \nOpen Day Elkron –\nPadovaOpen Day Elkron –\nPadovaVuoi conoscere tutte le novità e le integrazioni 2024 Elkron? Vieni nel punto vendita di Padova Mercoledì 25 Luglio\, i tecnici Elkron e TVSITALIA saranno a tua disposizione dalle ore 14:30 alle ore 18:30 \nVuoi conoscere tutte le novità e le integrazioni 2024 Elkron? Vieni nel punto vendita di Padova Mercoledì 25 Luglio\, i tecnici Elkron e TVSITALIA saranno a tua disposizione dalle ore 14:30 alle ore 18:30 \nOpen Day Elkron MedeaVieni in TVSITALIA a scoprire tutte le novità e le integrazioni che la nuova centrale Medea di Elkron ha in serbo per te!\n– Integrazione con le nuove telecamere CurtainVu Hikvision\n– Gestione smart Home semplificata con i moduli Elkron\n– Semplicità di programmazione e gestione interattiva anche da remoto.\n– Nuovo modulo KNX Elkron \nOpen Day Elkron MedeaVieni in TVSITALIA a scoprire tutte le novità e le integrazioni che la nuova centrale Medea di Elkron ha in serbo per te!\n– Integrazione con le nuove telecamere CurtainVu Hikvision\n– Gestione smart Home semplificata con i moduli Elkron\n– Semplicità di programmazione e gestione interattiva anche da remoto\n– Nuovo modulo KNX Elkron \nOpen Day Elkron MedeaVieni in TVSITALIA a scoprire tutte le novità e le integrazioni che la nuova centrale Medea di Elkron ha in serbo per te!\n– Integrazione con le nuove telecamere CurtainVu Hikvision\n– Gestione smart Home semplificata con i moduli Elkron\n– Semplicità di programmazione e gestione interattiva anche da remoto\n– Nuovo modulo KNX Elkron \nCome si svolgerà\nl’eventoA partire delle ore 14:30 i tecnici Elkron e TVSITALIA saranno a tua completa disposizione per illustrati le nuove integrazioni e le possibilità di Home Security date dal sistema Medea.\nRecati nella filiale nel momento in cui sei più libero. L’evento terminerà alle ore 18:30. \nCome si svolgerà\nl’eventoA partire delle ore 14:30 i tecnici Elkron e TVSITALIA saranno a tua completa disposizione per illustrati le nuove integrazioni e le possibilità di Home Security date dal sistema Medea.\nRecati nella filiale nel momento in cui sei più libero. L’evento terminerà alle ore 18:30. \nCome si svolgerà\nl’eventoA partire delle ore 14:30 i tecnici Elkron e TVSITALIA saranno a tua completa disposizione per illustrati le nuove integrazioni e le possibilità di Home Security date dal sistema Medea.\nRecati nella filiale nel momento in cui sei più libero. L’evento terminerà alle ore 18:30.
URL:https://tvsitalia.it/event/open-day-elkron-padova/
LOCATION:TVSITALIA sede di Padova\, Viale della Navigazione Interna\, 79\, Padova\, 35129\, Italia
CATEGORIES:Elkron
ATTACH;FMTTYPE=image/jpeg:https://tvsitalia.it/wp-content/uploads/2024/07/padova-elkron.jpg
END:VEVENT
END:VCALENDAR