BEGIN:VCALENDAR
VERSION:2.0
PRODID:-//TVSITALIA - ECPv6.15.18//NONSGML v1.0//EN
CALSCALE:GREGORIAN
METHOD:PUBLISH
X-WR-CALNAME:TVSITALIA
X-ORIGINAL-URL:https://tvsitalia.it
X-WR-CALDESC:Eventi per TVSITALIA
REFRESH-INTERVAL;VALUE=DURATION:PT1H
X-Robots-Tag:noindex
X-PUBLISHED-TTL:PT1H
BEGIN:VTIMEZONE
TZID:Europe/Rome
BEGIN:DAYLIGHT
TZOFFSETFROM:+0100
TZOFFSETTO:+0200
TZNAME:CEST
DTSTART:20230326T010000
END:DAYLIGHT
BEGIN:STANDARD
TZOFFSETFROM:+0200
TZOFFSETTO:+0100
TZNAME:CET
DTSTART:20231029T010000
END:STANDARD
BEGIN:DAYLIGHT
TZOFFSETFROM:+0100
TZOFFSETTO:+0200
TZNAME:CEST
DTSTART:20240331T010000
END:DAYLIGHT
BEGIN:STANDARD
TZOFFSETFROM:+0200
TZOFFSETTO:+0100
TZNAME:CET
DTSTART:20241027T010000
END:STANDARD
BEGIN:DAYLIGHT
TZOFFSETFROM:+0100
TZOFFSETTO:+0200
TZNAME:CEST
DTSTART:20250330T010000
END:DAYLIGHT
BEGIN:STANDARD
TZOFFSETFROM:+0200
TZOFFSETTO:+0100
TZNAME:CET
DTSTART:20251026T010000
END:STANDARD
END:VTIMEZONE
BEGIN:VEVENT
DTSTART;TZID=Europe/Rome:20240927T143000
DTEND;TZID=Europe/Rome:20240927T173000
DTSTAMP:20260421T192904
CREATED:20240912T064643Z
LAST-MODIFIED:20240912T122036Z
UID:41347-1727447400-1727458200@tvsitalia.it
SUMMARY:Presentazione centrale BeWave Satel
DESCRIPTION:Hello! We are a group of skilled developers and programmers.Scopri BeWave la nuova Centrale antifurtoSmart Home sviluppata e ideata da SatelTi diamo la soluzione che ti permetterà di sentirti sicuro e a tuo agio. BeWave è molto più di un semplice sistema di allarme nella tua casa.  \nScopri BeWave\, la nuova Centrale SatelScopri BeWave la nuova Centrale antifurtoSmart Home sviluppata e ideata da SatelTi diamo la soluzione che ti permetterà di sentirti sicuro e a tuo agio. BeWave è molto più di un semplice sistema di allarme nella tua casa.  \nScopri BeWave\, la nuova centrale sviluppata e ideata da SatelScopri BeWave la nuova Centrale antifurtoSmart Home sviluppata e ideata da SatelTi diamo la soluzione che ti permetterà di sentirti sicuro e a tuo agio. BeWave è molto più di un semplice sistema di allarme nella tua casa.  \nVenerdì 27 Settembre presso la sede TVSITALIA di Loreggia\, Via dell’artigianato 8/A ore 14:30Vieni a scoprire la nuova centrale BeWave\, la nuova nata in casa Satel.\n\nGli esperti Satel e TVSITALIA ti aspeteranno per un pomeriggio dedicato alla centrale BeWave\, la centrale che più di chiunque altra fonde Sicurezza e Samr Home in un unico prodotti. \nScarica la brochurePerché BeWave?\nIl nostro augurio è che tutti possano vivere in una casa che dia loro una sensazione di sicurezza\, indipendentemente dalla latitudine e dal fuso orario in cui si trovano\, che la casa sia il loro rifugio\, un luogo dove condividere le proprie gioie\, sostenersi a vicenda nella i momenti difficili e il riposo in condizioni confortevoli dopo una giornata di duro lavoro. \nCome fa BeWave?\nAbbiamo creato un sistema semplice ed efficace che puoi installare e implementare facilmente nella tua casa\, trasformandola in uno spazio sicuro e intelligente. In questo modo potrai proteggere non solo l’interno della tua casa\, ma anche il terreno circostante.\nAllo stesso tempo\, svolge per te funzioni di building automation\, favorendo il comfort degli abitanti\, il risparmio energetico e l’ecologia. \nVenerdì 27 Settembre presso la sede TVSITALIA di Loreggia\, Via dell’artigianato 8/A ore 15:30Vieni a scoprire la nuova centrale BeWave\, la nuova nata in casa Satel. \n\nGli esperti Satel e TVSITALIA ti aspeteranno per un pomeriggio dedicato alla centrale BeWave\, la centrale che più di chiunque altra fonde Sicurezza e Samr Home in un unico prodott. \nScarica la brochurePerché BeWave?Il nostro augurio è che tutti possano vivere in una casa che dia loro una sensazione di sicurezza\, indipendentemente dalla latitudine e dal fuso orario in cui si trovano\, che la casa sia il loro rifugio\, un luogo dove condividere le proprie gioie\, sostenersi a vicenda nella i momenti difficili e il riposo in condizioni confortevoli dopo una giornata di duro lavoro. \nCome lo fa BeWave?Abbiamo creato un sistema semplice ed efficace che puoi installare e implementare facilmente nella tua casa\, trasformandola in uno spazio sicuro e intelligente. In questo modo potrai proteggere non solo l’interno della tua casa\, ma anche il terreno circostante.\n\nAllo stesso tempo\, svolge per te funzioni di building automation\, favorendo il comfort degli abitanti\, il risparmio energetico e l’ecologia. \nVenerdì 27 Settembre presso la sede TVSITALIA di Loreggia\, Via dell’artigianato 8/A ore 14:30Vieni a scoprire la nuova centrale BeWave\, la nuova nata in casa Satel.\n\nGli esperti Satel e TVSITALIA ti aspeteranno per un pomeriggio dedicato alla centrale BeWave\, la centrale che più di chiunque altra fonde Sicurezza e Samr Home in un unico prodotti. \nScarica la brochurePerché BeWave?Il nostro augurio è che tutti possano vivere in una casa che dia loro una sensazione di sicurezza\, indipendentemente dalla latitudine e dal fuso orario in cui si trovano\, che la casa sia il loro rifugio\, un luogo dove condividere le proprie gioie\, sostenersi a vicenda nella i momenti difficili e il riposo in condizioni confortevoli dopo una giornata di duro lavoro. \nCome lo fa BeWave?Abbiamo creato un sistema semplice ed efficace che puoi installare e implementare facilmente nella tua casa\, trasformandola in uno spazio sicuro e intelligente. In questo modo potrai proteggere non solo l’interno della tua casa\, ma anche il terreno circostante.\n\nAllo stesso tempo\, svolge per te funzioni di building automation\, favorendo il comfort degli abitanti\, il risparmio energetico e l’ecologia.
URL:https://tvsitalia.it/event/presentazione-centrale-bewave-satel/
LOCATION:TVSITALIA sede di Loreggia\, Via dell'artigianato 8/A\, Loreggia\, Padova\, 35010\, Italia
CATEGORIES:Satel
ATTACH;FMTTYPE=image/jpeg:https://tvsitalia.it/wp-content/uploads/2024/09/BeWave-Satel.jpg
ORGANIZER;CN="TVSITALIA s.r.l":MAILTO:matteo@tvsitalia.it
END:VEVENT
END:VCALENDAR